BEGIN:VCALENDAR
VERSION:2.0
PRODID:icalendar-ruby
CALSCALE:GREGORIAN
METHOD:PUBLISH
BEGIN:VEVENT
DTSTAMP:20260425T215735Z
UID:143-2644028@holyhermits.com.au
DTSTART:20261029T223000Z
DTEND:20261029T230000Z
CLASS:PUBLIC
CREATED:20260426T074331
DESCRIPTION:Join in for the daily office of Morning Prayer at the Cathedral
  every weekday via Zoom.\nVisit the SERVICES | St John's Cathedral (stjohn
 scathedral.com.au) page for the up to date Zoom link.
LAST-MODIFIED:20260426T074331
LOCATION:Zoom - Cathedral Link
SUMMARY:Friday Morning Prayer with the Cathedral
URL;VALUE=URI:https://www.holyhermits.com.au/events/friday-morning-prayer-w
 ith-the-cathedral/2026-10-30
ATTACH;FILENAME=OIP (1).jfif;FMTTYPE=image/jpeg:https://dq5pwpg1q8ru0.cloud
 front.net/2023/10/07/22/27/26/9367f42b-87d6-4bfc-89ee-f9a622c14a20/OIP%20(
 1).jfif
END:VEVENT
END:VCALENDAR
