BEGIN:VCALENDAR
VERSION:2.0
PRODID:icalendar-ruby
CALSCALE:GREGORIAN
METHOD:PUBLISH
BEGIN:VEVENT
DTSTAMP:20260420T101428Z
UID:225-2514867@holyhermits.com.au
DTSTART:20260510T010000Z
DTEND:20260510T020000Z
CLASS:PUBLIC
CREATED:20260415T130044
DESCRIPTION:As a community\, we create a space to engage in respectful disc
 ussion as we take stock\, voice our questions and acknowledge the changes 
 we have expeirenced. We reflect on how we are called to be community and w
 orship together in this new season.\nOur Open spaces are a chance for us t
 o voice what we are witnessing in our midst as God works through our commu
 nity life. All are welcome to come lend a voice to the space.\nWe will apl
 ly the principles of Holy Wondering and Respectful Listening. Here is some
  more information on our Open Spaces.\nOwning and Grounding practices are 
 encouraged for Safeguarding all who join together in this wonderful way.\n
  
LAST-MODIFIED:20260415T130044
LOCATION:Zoom - Worship Link
SUMMARY:Open Space Meeting
URL;VALUE=URI:https://www.holyhermits.com.au/events/open-space-meeting--225
 /2026-05-10
ATTACH;FILENAME=image_generation_44162_328f5fd0-4fa1-11ee-af5d-9db9dc04706c
 _image0_1024_1024 (1).png;FMTTYPE=image/png:https://dq5pwpg1q8ru0.cloudfro
 nt.net/2026/02/12/04/23/46/9194f6fb-bff6-446d-af7f-87d61fa5d63a/image_gene
 ration_44162_328f5fd0-4fa1-11ee-af5d-9db9dc04706c_image0_1024_1024%20(1).p
 ng
END:VEVENT
END:VCALENDAR
