BEGIN:VCALENDAR
VERSION:2.0
PRODID:icalendar-ruby
CALSCALE:GREGORIAN
METHOD:PUBLISH
BEGIN:VEVENT
DTSTAMP:20260420T174128Z
UID:141-2580893@holyhermits.com.au
DTSTART:20261013T223000Z
DTEND:20261013T230000Z
CLASS:PUBLIC
CREATED:20260421T020535
DESCRIPTION:Join in for the daily office of Morning Prayer at the Cathedral
  every weekday via Zoom.\nVisit the SERVICES | St John's Cathedral (stjohn
 scathedral.com.au) page for the up to date Zoom link.
LAST-MODIFIED:20260421T020535
LOCATION:Zoom - Cathedral link
SUMMARY:Wednesday Morning Prayer with the Cathedral
URL;VALUE=URI:https://www.holyhermits.com.au/events/wednesday-morning-praye
 r-with-the-cathedral/2026-10-14
ATTACH;FILENAME=IMG_3594 (1).jpg;FMTTYPE=image/jpeg:https://dq5pwpg1q8ru0.c
 loudfront.net/2023/10/07/22/19/43/dffe5ef8-56af-4154-ad9d-be6ef2626019/IMG
 _3594%20(1).jpg
END:VEVENT
END:VCALENDAR
